BEGIN:VCALENDAR
VERSION:2.0
PRODID:-//wp-events-plugin.com//7.2.3.1//EN
BEGIN:VEVENT
UID:14@nnocci.org
DTSTART;TZID=America/Los_Angeles:20260728T100000
DTEND;TZID=America/Los_Angeles:20260730T120000
DTSTAMP:20251204T222831Z
URL:https://nnocci.org/events/starting-the-conversation-a-workshop-on-effe
 ctive-climate-change-communication-2/
SUMMARY:Starting the Conversation: A Workshop on Effective Climate Change C
 ommunication
DESCRIPTION:This virtual 6-hour workshop\, taking place over 3 days\, helps
  participants explore the challenges and opportunities associated with how
  people in the United States think about climate change and offers an intr
 oduction to how social science research-based tools (Strategic Framing) ca
 n help communicators more effectively navigate the topic.  Learn more abo
 ut Beginner Workshops here.\n\nThis workshop takes place Tue-Thu\, July 28
 -30 from 1p-3p ET\, and is offered at $90 per person.\n\nYou can read abou
 t our sliding scale here.\n\nRegistration available soon!
ATTACH;FMTTYPE=image/jpeg:https://i0.wp.com/nnocci.org/wp-content/uploads/
 2022/08/Ask-Me-About-Climate-Change-with-banner.png?fit=2000%2C2000&ssl=1
CATEGORIES:Starting the Conversation
END:VEVENT
BEGIN:VTIMEZONE
TZID:America/Los_Angeles
X-LIC-LOCATION:America/Los_Angeles
BEGIN:DAYLIGHT
DTSTART:20260308T030000
TZOFFSETFROM:-0800
TZOFFSETTO:-0700
TZNAME:PDT
END:DAYLIGHT
END:VTIMEZONE
END:VCALENDAR