BEGIN:VCALENDAR
VERSION:2.0
PRODID:-//wp-events-plugin.com//7.2.3.1//EN
BEGIN:VEVENT
UID:1@nnocci.org
DTSTART;TZID=America/Los_Angeles;VALUE=DATE:20251006
DTEND;TZID=America/Los_Angeles;VALUE=DATE:20251118
DTSTAMP:20250929T225445Z
URL:https://nnocci.org/events/framing-the-conversation-crash-course-fall-2
 025/
SUMMARY:Framing the Conversation\, A Virtual Training Opportunity for Clima
 te Communicators
DESCRIPTION:The National Network for Ocean and Climate Change Interpretatio
 n (NNOCCI) is hosting our Fall 2025 'Framing the Conversation: a Crash Cou
 rse in Effective Climate Change Communication'\, a virtual training opport
 unity for climate communicators. Registration closes October 6th\, or unti
 l spots sell out.
ATTACH;FMTTYPE=image/jpeg:https://i0.wp.com/nnocci.org/wp-content/uploads/
 2025/09/Banner-Registration-for-Framing-the-Conversation-Fall-2025.webp?fi
 t=1200%2C628&ssl=1
CATEGORIES:Framing the Conversation
END:VEVENT
BEGIN:VTIMEZONE
TZID:America/Los_Angeles
X-LIC-LOCATION:America/Los_Angeles
BEGIN:DAYLIGHT
DTSTART:20250309T030000
TZOFFSETFROM:-0800
TZOFFSETTO:-0700
TZNAME:PDT
END:DAYLIGHT
BEGIN:STANDARD
DTSTART:20251102T010000
TZOFFSETFROM:-0700
TZOFFSETTO:-0800
TZNAME:PST
END:STANDARD
END:VTIMEZONE
END:VCALENDAR