BEGIN:VCALENDAR
VERSION:2.0
PRODID:-//wp-events-plugin.com//7.2.3.1//EN
BEGIN:VEVENT
UID:15@nnocci.org
DTSTART;TZID=America/Los_Angeles:20260406T150000
DTEND;TZID=America/Los_Angeles:20260406T160000
DTSTAMP:20260309T224404Z
URL:https://nnocci.org/events/framing-the-conversation-a-crash-course-in-e
 ffective-climate-change-communication/
SUMMARY:Framing the Conversation: A Crash Course in Effective Climate Chang
 e Communication
DESCRIPTION:Virtual Training for Climate Communicators\n\n 	\n\n\n\nBecome 
 a trained Framer\n\n\n\n 	\n\n\n\nIn depth exposure to NNOCCI tools with e
 xperienced Facilitators\n\n\n\n 	\n\n\n\nWeekly coaching and feedback\n\n\
 n\n\n\n\nThe National Network for Ocean and Climate Change Interpretation 
 (NNOCCI)’s Framing the Conversation ‘Crash Course’ is a 7-week\, 25-
 hour\, online course for those interested in gaining strategic framing ski
 lls. Find our FAQs here!\n\nNNOCCI is a partnership among climate scientis
 ts\, informal science educators\, and climate communicators with public tr
 ust and large audiences. Dedicated to fostering productive conversations a
 bout climate action\, we operate as a supportive community of practice. We
  use and teach evidence-based\, empirically tested tools to inspire hope a
 nd action. Together\, we can shift climate change communications to be mor
 e positive\, productive\, civic-minded\, and action-focused.\n\nIn the Cra
 sh Course\, participants learn basic framing elements\, including what NNO
 CCI is\, why framing matters\, and best practices in the use of values\, m
 etaphors\, and solutions. This course is ideal for those who have an inter
 est in learning more about strategic framing and would like to become a Me
 mber of our Network.\n\nCourse Dates: Weekly webinars on Thursdays from 6-
 7 pm ET / 3-4 pm PT\, starting Apr 9th\, through May 21st\n\nCourse Cost: 
 $300\n\nContact us: Please direct any questions about this opportunity to 
 ContactNNOCCI@gmail.com. As much as possible\, we do not want financial ba
 rriers to prevent participation in our trainings. Please see information o
 n our sliding scale here.\n\nREGISTER HERE!\n\n
ATTACH;FMTTYPE=image/jpeg:https://i0.wp.com/nnocci.org/wp-content/uploads/
 2022/08/Solutions-signed-square-1.png?fit=2000%2C2000&ssl=1
CATEGORIES:Framing the Conversation
END:VEVENT
BEGIN:VTIMEZONE
TZID:America/Los_Angeles
X-LIC-LOCATION:America/Los_Angeles
BEGIN:DAYLIGHT
DTSTART:20260308T030000
TZOFFSETFROM:-0800
TZOFFSETTO:-0700
TZNAME:PDT
END:DAYLIGHT
END:VTIMEZONE
END:VCALENDAR