BEGIN:VCALENDAR
VERSION:2.0
PRODID:-//wp-events-plugin.com//7.2.3.1//EN
BEGIN:VEVENT
UID:16@nnocci.org
DTSTART;TZID=America/Los_Angeles:20261007T100000
DTEND;TZID=America/Los_Angeles:20261007T110000
DTSTAMP:20260313T222942Z
URL:https://nnocci.org/events/framing-the-conversation-a-crash-course-in-e
 ffective-climate-change-communication-2/
SUMMARY:Framing the Conversation: A Crash Course in Effective Climate Chang
 e Communication
DESCRIPTION:Virtual Training for Climate Communicators\n\n 	Become a traine
 d Framer\n 	In depth exposure to NNOCCI tools with experienced Facilitator
 s\n 	Weekly coaching and feedback\n\n\n\nThe National Network for Ocean an
 d Climate Change Interpretation (NNOCCI)’s Framing the Conversation ‘C
 rash Course’ is a 7-week\, 25-hour\, online course for those interested 
 in gaining strategic framing skills\, find our FAQs here.\n\nNNOCCI is a p
 artnership among climate scientists\, informal science educators\, and cli
 mate communicators with public trust and large audiences. Dedicated to fos
 tering productive conversations about climate action\, we operate as a sup
 portive community of practice. We use and teach evidence-based\, empirical
 ly tested tools to inspire hope and action. Together\, we can shift climat
 e change communications to be more positive\, productive\, civic-minded an
 d action-focused.\n\nIn the Crash Course\, participants learn basic framin
 g elements including what NNOCCI is\, why framing matters\, and best pract
 ices in use of values\, metaphors\, and solutions. This course is ideal fo
 r those who have an interest in learning more about strategic framing and 
 would like to become a Member of our Network.\n\nCourse Dates: Weekly webi
 nars on Wednesdays from 1-2pm ET\, starting October 7\, through November 1
 8\n\nCourse Cost: $300\n\nContact us: Please direct any questions about th
 is opportunity to ContactNNOCCI@gmail.com. As much as possible\, we do not
  want financial barriers to prevent participation in our trainings\, pleas
 e see information on our sliding scale here.\n\nRegistration Coming Soon!\
 n\n
ATTACH;FMTTYPE=image/jpeg:https://i0.wp.com/nnocci.org/wp-content/uploads/
 2022/08/Solutions-signed-square.png?fit=2000%2C2000&ssl=1
CATEGORIES:Framing the Conversation
END:VEVENT
BEGIN:VTIMEZONE
TZID:America/Los_Angeles
X-LIC-LOCATION:America/Los_Angeles
BEGIN:DAYLIGHT
DTSTART:20260308T030000
TZOFFSETFROM:-0800
TZOFFSETTO:-0700
TZNAME:PDT
END:DAYLIGHT
END:VTIMEZONE
END:VCALENDAR