BEGIN:VCALENDAR
VERSION:2.0
PRODID:-//wp-events-plugin.com//7.2.3.1//EN
BEGIN:VEVENT
UID:12@nnocci.org
DTSTART;TZID=America/Los_Angeles:20260915T100000
DTEND;TZID=America/Los_Angeles:20260915T110000
DTSTAMP:20251204T222712Z
URL:https://nnocci.org/events/changing-the-conversation-an-introduction-to
 -effective-climate-change-communication-4/
SUMMARY:Changing the Conversation: An Introduction to Effective Climate Cha
 nge Communication
DESCRIPTION:This virtual 1-hour FREE presentation helps participants become
  familiar with NNOCCI\, understand why framing matters\, and gain exposure
  to framing language. This presentation is an ideal first exposure for tho
 se interested in learning more about NNOCCI techniques. Learn more about t
 his introductory presentation here.\n\nCheck back for registration informa
 tion!
CATEGORIES:Changing the Conversation
END:VEVENT
BEGIN:VTIMEZONE
TZID:America/Los_Angeles
X-LIC-LOCATION:America/Los_Angeles
BEGIN:DAYLIGHT
DTSTART:20260308T030000
TZOFFSETFROM:-0800
TZOFFSETTO:-0700
TZNAME:PDT
END:DAYLIGHT
END:VTIMEZONE
END:VCALENDAR